BEGIN:VCALENDAR
VERSION:2.0
PRODID:-//Curaçao Pride 2025 - ECPv6.15.20//NONSGML v1.0//EN
CALSCALE:GREGORIAN
METHOD:PUBLISH
X-WR-CALNAME:Curaçao Pride 2025
X-ORIGINAL-URL:https://www.curacaopride.org
X-WR-CALDESC:Events for Curaçao Pride 2025
REFRESH-INTERVAL;VALUE=DURATION:PT1H
X-Robots-Tag:noindex
X-PUBLISHED-TTL:PT1H
BEGIN:VTIMEZONE
TZID:America/Curacao
BEGIN:STANDARD
TZOFFSETFROM:-0400
TZOFFSETTO:-0400
TZNAME:AST
DTSTART:20240101T000000
END:STANDARD
END:VTIMEZONE
BEGIN:VEVENT
DTSTART;TZID=America/Curacao:20250927T170000
DTEND;TZID=America/Curacao:20250927T210000
DTSTAMP:20260423T234839
CREATED:20250811T185226Z
LAST-MODIFIED:20250918T212115Z
UID:10814-1758992400-1759006800@www.curacaopride.org
SUMMARY:VoBu: Cuntry Kiki
DESCRIPTION:Where fashion meets fierceness and drag meets deliciousness! Enjoy an unforgettable brunch experience with dazzling drag performances\, fierce runway moments\, and a celebration of style and self-expression like no other.
URL:https://www.curacaopride.org/event/vobu-cuntry-kiki/
LOCATION:La Hacienda Olivia\, Kaya Milla 12\, Willemstad\, Curaçao
CATEGORIES:Curacao Pride Week
ATTACH;FMTTYPE=image/png:https://www.curacaopride.org/wp-content/uploads/2025/08/image_2025-08-11_120923435.png
END:VEVENT
BEGIN:VEVENT
DTSTART;TZID=America/Curacao:20250928T130000
DTEND;TZID=America/Curacao:20250928T180000
DTSTAMP:20260423T234839
CREATED:20250920T234146Z
LAST-MODIFIED:20250920T234146Z
UID:11320-1759064400-1759082400@www.curacaopride.org
SUMMARY:Rainbow Poolside
DESCRIPTION:🌈💦 Rainbow Poolside at Saint Tropez 💦🌈Dive into Sunday fun at Saint Tropez Ocean Club & Boutique Hotel! Cool off in the pool\, sip on cocktails\, and dance under the sun with the island’s most colorful crowd. \n✨ Theme: Rainbow Poolside👗 Best Outfit Contest – Show off your boldest look and win a free day pass + lunch!🕒 Sunday\, September 28 | 1:00 PM – 6:00 PM📍 Saint Tropez Ocean Club🎟 Free Entrance \nBring your friends\, your swimsuit\, and your sparkle — it’s the perfect way to celebrate in style!
URL:https://www.curacaopride.org/event/rainbow-poolside/
LOCATION:Saint Tropez Ocean Club\, 152 Pietermaai\, Willemstad\, Curaçao
ATTACH;FMTTYPE=image/jpeg:https://www.curacaopride.org/wp-content/uploads/2025/09/551481217_769719082641457_2524048711075147508_n.jpg
END:VEVENT
BEGIN:VEVENT
DTSTART;TZID=America/Curacao:20250930T190000
DTEND;TZID=America/Curacao:20250930T210000
DTSTAMP:20260423T234839
CREATED:20250924T025219Z
LAST-MODIFIED:20250926T195010Z
UID:11427-1759258800-1759266000@www.curacaopride.org
SUMMARY:Raising Rainbows
DESCRIPTION:Empowering Parents\, Teachers & Community Leaders \nRaising Rainbows is a seminar designed to inspire and equip parents\, teachers\, caregivers\, and community leaders with the tools to support a brighter\, more inclusive generation. \nLed by psychologist Verda Betrian\, the session explores practical ways to encourage acceptance\, build resilience\, and create safe spaces where every child and young person can thrive. By working together\, we can raise confident youth who embrace diversity and shine in their own unique colors.
URL:https://www.curacaopride.org/event/raising-rainbows/
LOCATION:Kurá Hulanda Conference Center\, Klipstraat 8\, Willemstad\, Curaçao
CATEGORIES:Curacao Pride Week
ATTACH;FMTTYPE=image/png:https://www.curacaopride.org/wp-content/uploads/2025/09/Curacao-Pride-2025-Presentation-Instagram-Post-1.png
END:VEVENT
END:VCALENDAR