BEGIN:VCALENDAR
VERSION:2.0
PRODID:-//Curaçao Pride 2025 - ECPv6.15.20//NONSGML v1.0//EN
CALSCALE:GREGORIAN
METHOD:PUBLISH
X-WR-CALNAME:Curaçao Pride 2025
X-ORIGINAL-URL:https://www.curacaopride.org
X-WR-CALDESC:Events for Curaçao Pride 2025
REFRESH-INTERVAL;VALUE=DURATION:PT1H
X-Robots-Tag:noindex
X-PUBLISHED-TTL:PT1H
BEGIN:VTIMEZONE
TZID:America/Curacao
BEGIN:STANDARD
TZOFFSETFROM:-0400
TZOFFSETTO:-0400
TZNAME:AST
DTSTART:20240101T000000
END:STANDARD
END:VTIMEZONE
BEGIN:VEVENT
DTSTART;TZID=America/Curacao:20250606T190000
DTEND;TZID=America/Curacao:20250606T230000
DTSTAMP:20260424T093653
CREATED:20250602T191940Z
LAST-MODIFIED:20250604T011207Z
UID:10599-1749236400-1749250800@www.curacaopride.org
SUMMARY:Soaked Weekend: Mingle Beach Soirée
DESCRIPTION:Kick off Curaçao Soaked Weekend in style with tropical cocktails\, golden hour views\, and an extra splash of fabulous! 🌴✨ \nJoin us at the stunning Papagayo Beach Club for an evening of mixing\, mingling\, and mellow island vibes — the perfect way to meet other guests and ease into the weekend. \n💃🏽 Special live performance by Ebony Noir – our dazzling queen will light up the night with a fierce and unforgettable show right on the beach. \nFriday\, June 6 | 7:00 PM – 11:00 PM📍 Papagayo Beach Club\, Jan Thiel🎟️ Free Entry
URL:https://www.curacaopride.org/event/soaked-weekend-mingle-beach-soiree/
LOCATION:Papagayo Beach Club\, Papagayo Hotel\, Willemstad\, Curaçao
CATEGORIES:Soaked Weekend
END:VEVENT
END:VCALENDAR