BEGIN:VCALENDAR
VERSION:2.0
PRODID:-//Curaçao Pride 2025 - ECPv6.15.20//NONSGML v1.0//EN
CALSCALE:GREGORIAN
METHOD:PUBLISH
X-WR-CALNAME:Curaçao Pride 2025
X-ORIGINAL-URL:https://www.curacaopride.org
X-WR-CALDESC:Events for Curaçao Pride 2025
REFRESH-INTERVAL;VALUE=DURATION:PT1H
X-Robots-Tag:noindex
X-PUBLISHED-TTL:PT1H
BEGIN:VTIMEZONE
TZID:America/Curacao
BEGIN:STANDARD
TZOFFSETFROM:-0400
TZOFFSETTO:-0400
TZNAME:AST
DTSTART:20240101T000000
END:STANDARD
END:VTIMEZONE
BEGIN:VEVENT
DTSTART;TZID=America/Curacao:20250930T120000
DTEND;TZID=America/Curacao:20250930T140000
DTSTAMP:20260423T200202
CREATED:20250924T025900Z
LAST-MODIFIED:20250926T170002Z
UID:11432-1759233600-1759240800@www.curacaopride.org
SUMMARY:Mind The Gap
DESCRIPTION:Bridging Mental Health & Workplace Culture \nThis special edition of Mind the Gap focuses on one of today’s most pressing workplace challenges: mental health — and how it shapes the way employees show up (or don’t) at work. \nOver a 2-hour lunch session\, HR professionals and business leaders are invited to join an open\, solution-driven conversation with two powerful voices: \n\n\nThe Silent Signals: What HR Can Do Before Someone Burns OutLearn how to recognize early red flags\, reduce stigma\, and create a more supportive culture that prevents burnout before it happens. \n\n\nMental Load at Work: A Queer Perspective on Feeling Safe\, Not Just SeenGain first-hand insights into the emotional realities queer professionals face in corporate environments — and how HR can transform diversity policies into true inclusion and emotional safety. \n\n\nTogether\, we’ll explore how small but meaningful shifts in awareness\, communication\, and policy can have a major impact on wellbeing\, productivity\, and retention. Registration is free\, but compulsory.
URL:https://www.curacaopride.org/event/mind-the-gap/
LOCATION:Corendon Hotel\, Pater Eeuwensweg 31\, Willemstad\, Curaçao
CATEGORIES:Curacao Pride Week
ATTACH;FMTTYPE=image/jpeg:https://www.curacaopride.org/wp-content/uploads/2025/09/Mind-the-gap.jpg
END:VEVENT
BEGIN:VEVENT
DTSTART;TZID=America/Curacao:20250929T183000
DTEND;TZID=America/Curacao:20250929T210000
DTSTAMP:20260423T200202
CREATED:20250924T030623Z
LAST-MODIFIED:20250926T210327Z
UID:11434-1759170600-1759179600@www.curacaopride.org
SUMMARY:Unmuted
DESCRIPTION:A Space for Dialogue\, Ideas & Connection \nUnmuted is a panel discussion hosted by Jason Obispo at the trendy Pakaya Society coffee shop\, bringing together voices from across our community for open conversation. In a relaxed setting\, panelists and guests share stories\, insights\, and perspectives on LGBTQ+ life\, creating space for honest dialogue\, fresh ideas\, and meaningful connection. \nThis is your chance to ask questions\, exchange experiences\, and engage in the conversations that matter most — unfiltered\, unguarded\, and unmuted.
URL:https://www.curacaopride.org/event/unmuted/
LOCATION:Pakaya Society\, A7 Salinja Aboustraat\, Willemstad\, Curaçao
CATEGORIES:Curacao Pride Week
ATTACH;FMTTYPE=image/jpeg:https://www.curacaopride.org/wp-content/uploads/2025/09/Unmuted.jpg
END:VEVENT
BEGIN:VEVENT
DTSTART;TZID=America/Curacao:20250928T170000
DTEND;TZID=America/Curacao:20250928T190000
DTSTAMP:20260423T200202
CREATED:20250923T024231Z
LAST-MODIFIED:20250924T015814Z
UID:11354-1759078800-1759086000@www.curacaopride.org
SUMMARY:The Queer Women Tour
DESCRIPTION:The Queer Women Tour is an ode to the women who paved the way for queer emancipation on our island. These were women who refused to let conventions define them. Through real-life stories told by those who knew them best\, we honor their courage and resilience. \n Along the way\, you’ll hear about the unsung heroes of Curaçao’s queer history — women whose strength and vision continue to inspire generations. \n This walking tour is a chance to connect with our past\, reflect on the present\, and celebrate those who dared to live authentically. \n Date: September 28\, 2025 Time: 5 PM – 7 PM Price: ƒ20\,-
URL:https://www.curacaopride.org/event/the-queer-women-tour/
ATTACH;FMTTYPE=image/jpeg:https://www.curacaopride.org/wp-content/uploads/2025/09/QWT28.jpg
END:VEVENT
BEGIN:VEVENT
DTSTART;TZID=America/Curacao:20250928T130000
DTEND;TZID=America/Curacao:20250928T180000
DTSTAMP:20260423T200202
CREATED:20250920T234146Z
LAST-MODIFIED:20250920T234146Z
UID:11320-1759064400-1759082400@www.curacaopride.org
SUMMARY:Rainbow Poolside
DESCRIPTION:🌈💦 Rainbow Poolside at Saint Tropez 💦🌈Dive into Sunday fun at Saint Tropez Ocean Club & Boutique Hotel! Cool off in the pool\, sip on cocktails\, and dance under the sun with the island’s most colorful crowd. \n✨ Theme: Rainbow Poolside👗 Best Outfit Contest – Show off your boldest look and win a free day pass + lunch!🕒 Sunday\, September 28 | 1:00 PM – 6:00 PM📍 Saint Tropez Ocean Club🎟 Free Entrance \nBring your friends\, your swimsuit\, and your sparkle — it’s the perfect way to celebrate in style!
URL:https://www.curacaopride.org/event/rainbow-poolside/
LOCATION:Saint Tropez Ocean Club\, 152 Pietermaai\, Willemstad\, Curaçao
ATTACH;FMTTYPE=image/jpeg:https://www.curacaopride.org/wp-content/uploads/2025/09/551481217_769719082641457_2524048711075147508_n.jpg
END:VEVENT
BEGIN:VEVENT
DTSTART;TZID=America/Curacao:20250927T170000
DTEND;TZID=America/Curacao:20250927T210000
DTSTAMP:20260423T200202
CREATED:20250811T185226Z
LAST-MODIFIED:20250918T212115Z
UID:10814-1758992400-1759006800@www.curacaopride.org
SUMMARY:VoBu: Cuntry Kiki
DESCRIPTION:Where fashion meets fierceness and drag meets deliciousness! Enjoy an unforgettable brunch experience with dazzling drag performances\, fierce runway moments\, and a celebration of style and self-expression like no other.
URL:https://www.curacaopride.org/event/vobu-cuntry-kiki/
LOCATION:La Hacienda Olivia\, Kaya Milla 12\, Willemstad\, Curaçao
CATEGORIES:Curacao Pride Week
ATTACH;FMTTYPE=image/png:https://www.curacaopride.org/wp-content/uploads/2025/08/image_2025-08-11_120923435.png
END:VEVENT
BEGIN:VEVENT
DTSTART;TZID=America/Curacao:20250926T180000
DTEND;TZID=America/Curacao:20250926T210000
DTSTAMP:20260423T200202
CREATED:20250526T124254Z
LAST-MODIFIED:20250923T233519Z
UID:10588-1758909600-1758920400@www.curacaopride.org
SUMMARY:Pride 2025 Opening & Kuèrdu Awards
DESCRIPTION:✨ Kick off Curaçao Pride Week with a night of reflection and connection.Join us as we unveil our new mural in Punda and open the 13th annual Curaçao Pride together. The evening will feature the Kuèrdu Awards\, honoring those who have paved the way for our community\, and space to meet\, mingle\, and celebrate the start of Pride Week. \n🌈 A meaningful beginning to a week full of celebration\, awareness and unity.
URL:https://www.curacaopride.org/event/pride-2025-opening/
LOCATION:Hendrikplein 1\, Hendrikplein 1\, Willemstad\, Curaçao
CATEGORIES:Curacao Pride Week
ATTACH;FMTTYPE=image/jpeg:https://www.curacaopride.org/wp-content/uploads/2025/05/Pride-Opening-2025.jpg
END:VEVENT
BEGIN:VEVENT
DTSTART;TZID=America/Curacao:20250926T090000
DTEND;TZID=America/Curacao:20250926T110000
DTSTAMP:20260423T200202
CREATED:20250923T023955Z
LAST-MODIFIED:20250923T023955Z
UID:11352-1758877200-1758884400@www.curacaopride.org
SUMMARY:Queer History Tour by Nelly
DESCRIPTION:Step into the vibrant heart of Otrobanda and uncover the hidden stories of Curaçao’s LGBTQ+ past and present. Join local guide and activist Nelly as she takes you on a walking tour through the colorful streets\, sharing powerful stories of resilience\, community\, and pride.\n\n Along the way\, we’ll stop at two queer establishments for refreshing drinks and local hospitality — a perfect chance to see amazing street art\, meet others and support queer-owned spaces.\n\n Whether you’re a visitor or a local\, this tour will deepen your connection to Curaçao’s art and culture while celebrating the voices that helped shape our queer community.\n Location: Otrobanda Date: September 26\, 2025 Time: Starts at 9am Price: ƒ20\,-
URL:https://www.curacaopride.org/event/queer-history-tour-by-nelly/
CATEGORIES:Curacao Pride Week
ATTACH;FMTTYPE=image/jpeg:https://www.curacaopride.org/wp-content/uploads/2025/09/QACT26.jpg
END:VEVENT
BEGIN:VEVENT
DTSTART;TZID=America/Curacao:20250608T110000
DTEND;TZID=America/Curacao:20250608T190000
DTSTAMP:20260423T200202
CREATED:20250602T211640Z
LAST-MODIFIED:20250603T201328Z
UID:10605-1749380400-1749409200@www.curacaopride.org
SUMMARY:Soaked Weekend: Beach\, Please!
DESCRIPTION: Beach Please!A chill day by the sea — no program\, no pressure\, just good people and peaceful vibes.\nJoin us for a relaxed\, queer-friendly beach day at Que Tapa during Curaçao Soaked Weekend. Whether you’re in the mood to swim\, sunbathe\, sip a cocktail\, or share stories under a palm tree\, this is your space to just be.\n\n Come solo or with friends Wear what you want No loud music\, no schedule — just sun\, sea\, and serenity\n Que Tapa Beach Bar Sunday\, June 8 11 AM till sunset Free & open to all\n\nBring your towel\, your truth\, and maybe a beach read. Let’s soak in the calm together. 
URL:https://www.curacaopride.org/event/soaked-weekend-beach-please/
LOCATION:Que Tapa\, Piscadera Bay\, 4 Piscaderaweg\, Willemstad\, Curaçao
CATEGORIES:Soaked Weekend
END:VEVENT
BEGIN:VEVENT
DTSTART;TZID=America/Curacao:20250607T220000
DTEND;TZID=America/Curacao:20250608T020000
DTSTAMP:20260423T200202
CREATED:20250602T212026Z
LAST-MODIFIED:20250604T011327Z
UID:10608-1749333600-1749348000@www.curacaopride.org
SUMMARY:Soaked Weekend: W.E.T Gaze
DESCRIPTION: WE EXTRA TONITE Extra Sexy. Extra Fun. EXTRA WET. \nWe’re going all out for Curaçao Soaked Weekend with a late-night party that’s bold\, queer\, and totally unapologetic. Join us at GAZE Bar & Lounge for a night of beachwear\, body heat\, and untamed energy.\n\n Dresscode: BEACHWEAR Free entrance\, no excuses 18+ only 10PM – 3AM Hanchi Snoa 2 Saturday June 7\n\nWhether you’re flaunting\, flirting\, or just vibing — come as you are\, but don’t expect to stay dry.
URL:https://www.curacaopride.org/event/soaked-weekend-w-e-t-gaze/
LOCATION:Gaze Bar & Lounge\, Hanchi Snoa 2\, Willemstad
CATEGORIES:Soaked Weekend
END:VEVENT
BEGIN:VEVENT
DTSTART;TZID=America/Curacao:20250607T170000
DTEND;TZID=America/Curacao:20250607T190000
DTSTAMP:20260423T200202
CREATED:20250603T190322Z
LAST-MODIFIED:20250604T002420Z
UID:10678-1749315600-1749322800@www.curacaopride.org
SUMMARY:Soaked Weekend: Queer History Tour
DESCRIPTION:🌈 Queer History Tour by NellyStep into the vibrant heart of Otrobanda and uncover the hidden stories of Curaçao’s LGBTQ+ past and present. Join local guide and activist Nelly as she takes you on a walking tour through the colorful streets\, sharing powerful stories of resilience\, community\, and pride. \n🏡 Along the way\, we’ll stop at two queer establishments for refreshing drinks and local hospitality — a perfect chance to see amazing street art\, meet others and support queer-owned spaces. \n✨ Whether you’re a visitor or a local\, this tour will deepen your connection to Curaçao’s culture while celebrating the voices that helped shape our queer community. \n📍 Location: Otrobanda🗓️ Date: Saturday June 7🕘 Time: Starts at 5pm🎟️ Price: Free Registration required / Donation-based
URL:https://www.curacaopride.org/event/soaked-weekend-queer-history-tour/
CATEGORIES:Soaked Weekend
ATTACH;FMTTYPE=image/jpeg:https://www.curacaopride.org/wp-content/uploads/2025/06/Soaked-Events-Web.jpg
END:VEVENT
BEGIN:VEVENT
DTSTART;TZID=America/Curacao:20250606T190000
DTEND;TZID=America/Curacao:20250606T230000
DTSTAMP:20260423T200202
CREATED:20250602T191940Z
LAST-MODIFIED:20250604T011207Z
UID:10599-1749236400-1749250800@www.curacaopride.org
SUMMARY:Soaked Weekend: Mingle Beach Soirée
DESCRIPTION:Kick off Curaçao Soaked Weekend in style with tropical cocktails\, golden hour views\, and an extra splash of fabulous! 🌴✨ \nJoin us at the stunning Papagayo Beach Club for an evening of mixing\, mingling\, and mellow island vibes — the perfect way to meet other guests and ease into the weekend. \n💃🏽 Special live performance by Ebony Noir – our dazzling queen will light up the night with a fierce and unforgettable show right on the beach. \nFriday\, June 6 | 7:00 PM – 11:00 PM📍 Papagayo Beach Club\, Jan Thiel🎟️ Free Entry
URL:https://www.curacaopride.org/event/soaked-weekend-mingle-beach-soiree/
LOCATION:Papagayo Beach Club\, Papagayo Hotel\, Willemstad\, Curaçao
CATEGORIES:Soaked Weekend
END:VEVENT
END:VCALENDAR