BEGIN:VCALENDAR
VERSION:2.0
PRODID:-//Curaçao Pride 2025 - ECPv6.15.20//NONSGML v1.0//EN
CALSCALE:GREGORIAN
METHOD:PUBLISH
X-WR-CALNAME:Curaçao Pride 2025
X-ORIGINAL-URL:https://www.curacaopride.org
X-WR-CALDESC:Events for Curaçao Pride 2025
REFRESH-INTERVAL;VALUE=DURATION:PT1H
X-Robots-Tag:noindex
X-PUBLISHED-TTL:PT1H
BEGIN:VTIMEZONE
TZID:America/Curacao
BEGIN:STANDARD
TZOFFSETFROM:-0400
TZOFFSETTO:-0400
TZNAME:AST
DTSTART:20240101T000000
END:STANDARD
END:VTIMEZONE
BEGIN:VEVENT
DTSTART;TZID=America/Curacao:20251003T190000
DTEND;TZID=America/Curacao:20251003T190000
DTSTAMP:20260424T010404
CREATED:20250811T161538Z
LAST-MODIFIED:20250923T233233Z
UID:10809-1759518000-1759518000@www.curacaopride.org
SUMMARY:Out on the Block
DESCRIPTION:An open-air street party like no other! Experience bold performances\, eclectic beats\, street food\, and a vibrant crowd swaying under the stars. It’s the perfect way to keep the Pride energy going all night long.
URL:https://www.curacaopride.org/event/out-on-the-block/
LOCATION:Mr. Porter\, Nieuwestraat 42\, Willemstad\, Curaçao
CATEGORIES:Curacao Pride Week
ATTACH;FMTTYPE=image/png:https://www.curacaopride.org/wp-content/uploads/2025/06/SE.png
END:VEVENT
BEGIN:VEVENT
DTSTART;TZID=America/Curacao:20251004T090000
DTEND;TZID=America/Curacao:20251004T110000
DTSTAMP:20260424T010404
CREATED:20250811T190743Z
LAST-MODIFIED:20250929T213117Z
UID:10821-1759568400-1759575600@www.curacaopride.org
SUMMARY:Queer Art & Culture Tour
DESCRIPTION:Discover the hidden stories and rich LGBTQ+ history of Curaçao with this guided walking tour led by Nelly Rosa. Explore the vibrant Otrobanda district and learn about the people\, places\, and events that shaped the island’s queer community. \nNote: This is the same tour as the Queer History Tour during Pride 2024.
URL:https://www.curacaopride.org/event/queer-art-culture-tour-2/
CATEGORIES:Curacao Pride Week,History
ATTACH;FMTTYPE=image/jpeg:https://www.curacaopride.org/wp-content/uploads/2025/09/QHT3.jpg
END:VEVENT
BEGIN:VEVENT
DTSTART;TZID=America/Curacao:20251004T210000
DTEND;TZID=America/Curacao:20251005T030000
DTSTAMP:20260424T010404
CREATED:20250602T213224Z
LAST-MODIFIED:20250927T183729Z
UID:10614-1759611600-1759633200@www.curacaopride.org
SUMMARY:Freskura: Where The Wild Things Are
DESCRIPTION: FRESKURA: WILD  \nFor those that like to roar\, hiss & purr… this night is yours. Unleash your animal side at Curaçao Pride’s hottest party — bold beats\, untamed vibes\, and a dance floor that doesn’t quit. MANY surprise performances! \n Come fierce. Come thirsty. Come WILD. DJs | Performances | Pure Pride Energy \n#Freskura #CuracaoPride2025 #PrideParty #GoWild #UnleashYourPride
URL:https://www.curacaopride.org/event/curacao-pride-freskura-main-party/
LOCATION:La Coco Jamboo República\, Breedestraat 136-138\, Otrobanda\, Curaçao\,\, Willemstad\, Curaçao
CATEGORIES:Curacao Pride Week
ATTACH;FMTTYPE=image/jpeg:https://www.curacaopride.org/wp-content/uploads/2025/06/26-Instagram-Post.jpg
END:VEVENT
BEGIN:VEVENT
DTSTART;TZID=America/Curacao:20260930T190000
DTEND;TZID=America/Curacao:20260930T230000
DTSTAMP:20260424T010404
CREATED:20260416T161226Z
LAST-MODIFIED:20260416T161226Z
UID:11994-1790794800-1790809200@www.curacaopride.org
SUMMARY:Sip & Sign Mixer
DESCRIPTION:
URL:https://www.curacaopride.org/event/sip-sign-mixer-2/
CATEGORIES:Curacao Pride Week
END:VEVENT
BEGIN:VEVENT
DTSTART;TZID=America/Curacao:20261001T190000
DTEND;TZID=America/Curacao:20261001T200000
DTSTAMP:20260424T010404
CREATED:20260416T161622Z
LAST-MODIFIED:20260416T161622Z
UID:11996-1790881200-1790884800@www.curacaopride.org
SUMMARY:Curaçao Pride Parade
DESCRIPTION:
URL:https://www.curacaopride.org/event/curacao-pride-parade-2/
LOCATION:Renaissance Mall & Rif Fort\, Rif Fort\, Willemstad
CATEGORIES:Curacao Pride Week
END:VEVENT
BEGIN:VEVENT
DTSTART;TZID=America/Curacao:20261002T190000
DTEND;TZID=America/Curacao:20261002T190000
DTSTAMP:20260424T010404
CREATED:20260416T162118Z
LAST-MODIFIED:20260416T162316Z
UID:11998-1790967600-1790967600@www.curacaopride.org
SUMMARY:Out on the Block
DESCRIPTION:
URL:https://www.curacaopride.org/event/out-on-the-block-2/
CATEGORIES:Curacao Pride Week
END:VEVENT
BEGIN:VEVENT
DTSTART;TZID=America/Curacao:20261003T200000
DTEND;TZID=America/Curacao:20261003T200000
DTSTAMP:20260424T010404
CREATED:20260416T163008Z
LAST-MODIFIED:20260416T163719Z
UID:12002-1791057600-1791057600@www.curacaopride.org
SUMMARY:Pride Main Party
DESCRIPTION:
URL:https://www.curacaopride.org/event/pride-main-party/
CATEGORIES:Curacao Pride Week
END:VEVENT
BEGIN:VEVENT
DTSTART;TZID=America/Curacao:20261004T110000
DTEND;TZID=America/Curacao:20261004T170000
DTSTAMP:20260424T010404
CREATED:20260416T162708Z
LAST-MODIFIED:20260416T162708Z
UID:12000-1791111600-1791133200@www.curacaopride.org
SUMMARY:Pride Pool Party
DESCRIPTION:
URL:https://www.curacaopride.org/event/pride-pool-party/
CATEGORIES:Curacao Pride Week
END:VEVENT
END:VCALENDAR